BEGIN:VCALENDAR
VERSION:2.0
PRODID:-//hacksw/handcal//NONSGML v1.0//EN
CALSCALE:GREGORIAN
BEGIN:VEVENT
LOCATION:Cinéma Le Studio
DESCRIPTION:Cineastu : Alexandre Dovjenko Scénario / Scinàriu – Montage / Muntatura : Alexandre Dovjenko Cadreur / Uperatore – Photographie / Ritrattera : Daniïl Demoustzky Décors / Decori : Vassili Kritchevski Musique / Musica : Lev Revouski Production / Pruduzzione : VUFKU (Ukraine) Durée / Durata : 1h15 Année de sortie / Annata di esciuta : [&hellip\;]
DTSTART:20230523T173000Z
DTEND:20230523T183000Z
SUMMARY:Ciné-Club : « La Terre »   (titre original : Zemlia)
URL;VALUE=URI:https://agenda.bastia.corsica/agenda/cine-club-la-terre-titre-original-zemlia/
DTSTAMP:20260424T120233Z
UID:69eb5bd9df543
END:VEVENT
END:VCALENDAR