BEGIN:VCALENDAR
VERSION:2.0
PRODID:-//hacksw/handcal//NONSGML v1.0//EN
CALSCALE:GREGORIAN
BEGIN:VEVENT
LOCATION:Cinéma Le Régent
DESCRIPTION:EN PRÉSENCE D’HENRY PADOVANI EN PARTENARIAT AVEC LES MUSICALES DE BASTIA Arte Mare et Le Régent poursuivent leur programmation cinématographique hors festival « Arte Mare toute l’année » ROCK’N ROLL… OF CORSE ! Prémices de l’époque Road movie punk avec : Sting et Stewart Copeland de The Police\, Glen Matlock de Sex Pistols\, Kim Wilde [&hellip\;]
DTSTART:20230608T170000Z
DTEND:20230608T180000Z
SUMMARY:Rock’n’roll… of corse !
URL;VALUE=URI:https://agenda.bastia.corsica/agenda/rocknroll-of-corse/
DTSTAMP:20260423T082437Z
UID:69e9d7452227b
END:VEVENT
END:VCALENDAR