BEGIN:VCALENDAR
VERSION:2.0
PRODID:-//hacksw/handcal//NONSGML v1.0//EN
CALSCALE:GREGORIAN
BEGIN:VEVENT
LOCATION:Cinéma Le Studio
DESCRIPTION:DE CONCERT AU CINÉMA &#8211\; Ennio Morricone Le plaisir de voir le sublime hommage au cinéma\, d’entendre la musique de l’immense décorateur du silence\, &#8230\; l’appel aux passionnés de culture\, de musique\, de cinéma et à tout le monde\, … du Ciné-Club\, du Festival du Cinéma Italien\, de Studio animation\, E Stonde du Sinema\, de [&hellip\;]
DTSTART:20230620T173000Z
DTEND:20230620T183000Z
SUMMARY:Ciné-Club : De concert au cinéma Ennio
URL;VALUE=URI:https://agenda.bastia.corsica/agenda/cine-club-de-concert-au-cinema-ennio/
DTSTAMP:20260424T103613Z
UID:69eb479d1a359
END:VEVENT
END:VCALENDAR