BEGIN:VCALENDAR
VERSION:2.0
PRODID:-//hacksw/handcal//NONSGML v1.0//EN
CALSCALE:GREGORIAN
BEGIN:VEVENT
LOCATION:Cinéma Le Régent
DESCRIPTION:Les filles d&rsquo\;Olfa de Kaouther Ben Hania Projection présenté dans le cadre du festival Arte Mare Film présenté en Compétition au Festival de Cannes 2023. En partenariat avec LE RÉGENT En présence de la réalisatrice Synopsis : La vie d&rsquo\;Olfa\, Tunisienne et mère de 4 filles\, oscille entre ombre et lumière. Un jour\, ses deux filles [&hellip\;]
DTSTART:20230708T200000Z
DTEND:20230708T210000Z
SUMMARY:Les filles d’Olfa
URL;VALUE=URI:https://agenda.bastia.corsica/agenda/les-filles-dolfa/
DTSTAMP:20260424T103110Z
UID:69eb466e6a59d
END:VEVENT
END:VCALENDAR