BEGIN:VCALENDAR
VERSION:2.0
PRODID:-//hacksw/handcal//NONSGML v1.0//EN
CALSCALE:GREGORIAN
BEGIN:VEVENT
LOCATION:Place Saint Nicolas
DESCRIPTION:Mercredi 12 juillet &#8211\; 21h &#8211\; Place St-Nicolas Spectacle  » Lumières » Pascal Paoli &#8211\; Gratuit &nbsp\; Infos | 04 95 31 16 94 | aca.danse@gmail.com
DTSTART:20230712T200000Z
DTEND:20230712T210000Z
SUMMARY:Spectacle  » Lumières » Pascal Paoli
URL;VALUE=URI:https://agenda.bastia.corsica/agenda/spectacle-lumieres-pascal-paoli/
DTSTAMP:20260424T021901Z
UID:69ead31503fe4
END:VEVENT
END:VCALENDAR