BEGIN:VCALENDAR
VERSION:2.0
PRODID:-//hacksw/handcal//NONSGML v1.0//EN
CALSCALE:GREGORIAN
BEGIN:VEVENT
LOCATION:Casa di e Lingue
DESCRIPTION:I vivi\, i morti è a barca. Parlemu inseme incù Hélène Susini è l’associu E Signadore di e tradizione in giru à e porte\, scure o luminose chì s’aprenu di novembre. À truvacci cun spiriti\, lacramenti\, mazzeri è ancu e streghe di e fole.
DTSTART:20231116T170000Z
DTEND:20231116T180000Z
SUMMARY:Credenze
URL;VALUE=URI:https://agenda.bastia.corsica/agenda/credenze/
DTSTAMP:20260423T082319Z
UID:69e9d6f732840
END:VEVENT
END:VCALENDAR