BEGIN:VCALENDAR
VERSION:2.0
PRODID:-//hacksw/handcal//NONSGML v1.0//EN
CALSCALE:GREGORIAN
BEGIN:VEVENT
LOCATION:Teatru Municipale di Bastia
DESCRIPTION:Membre du groupe de pop rock anglophone Four Kicks\, il sillonne les scènes à la batterie\, depuis plusieurs années\, et enchaîne les représentations aux quatre coins de l’Europe. Il a joué avec I Messageri\, Incantesimu\, Voce Ventu\, Vitalba\, Francine Massiani\, Barbara Furtuna\, Nicolas Torracinta\, Lionel Giacomini\, Doria Ousset\, Diana Saliceti\, A Pasqualina...
DTSTART:20220518T193000Z
DTEND:20220518T203000Z
SUMMARY:Michè Dominici
URL;VALUE=URI:https://agenda.bastia.corsica/agenda/miche-dominici/
DTSTAMP:20260420T103014Z
UID:69e600361a05a
END:VEVENT
END:VCALENDAR