BEGIN:VCALENDAR
VERSION:2.0
PRODID:-//hacksw/handcal//NONSGML v1.0//EN
CALSCALE:GREGORIAN
BEGIN:VEVENT
LOCATION:
DESCRIPTION:La première semaine des vacances\, c’est Ciné Zitelli avec du cinéma.  Rendez-vous à 10h au Centre Culturel Alb’Oru !  La super-héroïne débarque pour la première fois au cinéma ! Ladybug va devoir unir ses forces avec Chat Noir\, le charismatique justicier masqué qui n’a pas sa langue dans sa poche\, pour affronter le Papillon et [&hellip\;]
DTSTART:20231026T090000Z
DTEND:20231026T100000Z
SUMMARY:Ciné Zitelli – MIRACULOUS
URL;VALUE=URI:https://agenda.bastia.corsica/agenda/cine-zitelli-miraculous/
DTSTAMP:20260424T073412Z
UID:69eb1cf4c152e
END:VEVENT
END:VCALENDAR