BEGIN:VCALENDAR
VERSION:2.0
PRODID:-//hacksw/handcal//NONSGML v1.0//EN
CALSCALE:GREGORIAN
BEGIN:VEVENT
LOCATION:Cinéma Le Studio
DESCRIPTION:Cette séance est organisée en partenariat avec l’association Studio Animations et le cinéma Le Studio. Elle sera prolongée d’un débat sur le thème de l’enfance et des droits de l’enfant dont la Journée internationale est le 20 novembre. Le thème de l’enfance\, des droits de l’enfant est un fil déroulé\, qui relie les trois films [&hellip\;]
DTSTART:20231212T180000Z
DTEND:20231212T190000Z
SUMMARY:Siné-Associu : Sound of Freedom de Alejandro Gomez Montverde
URL;VALUE=URI:https://agenda.bastia.corsica/agenda/sine-associu-sound-of-freedom-de-alejandro-gomez-montverde/
DTSTAMP:20260424T062302Z
UID:69eb0c4654e10
END:VEVENT
END:VCALENDAR