BEGIN:VCALENDAR
VERSION:2.0
PRODID:-//hacksw/handcal//NONSGML v1.0//EN
CALSCALE:GREGORIAN
BEGIN:VEVENT
LOCATION:
DESCRIPTION: Journée internationale de lutte contre les violences faites aux femmes Vendredi 24 novembre 2023 – Lycée de Montesoro &#8211\; auditorium 9 heures – 11 heures 30 &#8211\; Lycée de Montesoro Représentation théâtrale par la compagnie TeatrEuropa Suivie d’un débat avec les lycéens autour de la thématique des violences faites aux femmes\, animé par le CIDFF [&hellip\;]
DTSTART:20231124T080000Z
DTEND:20231125T090000Z
SUMMARY:Entre les mains de Barbe Bleue
URL;VALUE=URI:https://agenda.bastia.corsica/agenda/entre-les-mains-de-barbe-bleue/
DTSTAMP:20260421T082149Z
UID:69e7339d8bd91
END:VEVENT
END:VCALENDAR