BEGIN:VCALENDAR
VERSION:2.0
PRODID:-//hacksw/handcal//NONSGML v1.0//EN
CALSCALE:GREGORIAN
BEGIN:VEVENT
LOCATION:Cinéma Le Studio
DESCRIPTION:Prix de l’originalité &#8211\; un certain regard &#8211\; Festival de Cannes 2021 Seule salle en Corse labellisée Europa Cinemas\, le Studio de la rue René Viale à Bastia\, s’associe avec 75 autres salles à travers toute l’Europe\, à la nuit du cinéma européen 2023 organisée par Europe Créative – MEDIA * C’est ce mardi 5 [&hellip\;]
DTSTART:20231205T174500Z
DTEND:20231205T184500Z
SUMMARY:Ciné-Club : Lamb de Valdimar Jóhannsson
URL;VALUE=URI:https://agenda.bastia.corsica/agenda/cine-club-lamb-de-valdimar-johannsson/
DTSTAMP:20260424T061017Z
UID:69eb0949b6cdd
END:VEVENT
END:VCALENDAR