BEGIN:VCALENDAR
VERSION:2.0
PRODID:-//hacksw/handcal//NONSGML v1.0//EN
CALSCALE:GREGORIAN
BEGIN:VEVENT
LOCATION:Centru culturale Alb&rsquo\;Oru
DESCRIPTION:La première semaine des vacances\, c’est Ciné Zitelli avec du cinéma à partir de 3 ans en partenariat avec le cinéma Le Studio. 2h03 &#8211\; à partir de 10 ans Mahito\, un jeune garçon de 12 ans\, peine à s&rsquo\;installer dans une nouvelle ville après la mort de sa mère. Cependant\, lorsqu&rsquo\;un héron parlant informe [&hellip\;]
DTSTART:20240228T090000Z
DTEND:20240228T100000Z
SUMMARY:Ciné Zitelli – Le garçon et le héron
URL;VALUE=URI:https://agenda.bastia.corsica/agenda/cine-zitelli-le-garcon-et-le-heron/
DTSTAMP:20260424T061017Z
UID:69eb0949b6c09
END:VEVENT
END:VCALENDAR