BEGIN:VCALENDAR
VERSION:2.0
PRODID:-//hacksw/handcal//NONSGML v1.0//EN
CALSCALE:GREGORIAN
BEGIN:VEVENT
LOCATION:Cinéma Le Studio
DESCRIPTION:Une fois n&rsquo\;est pas coutume\, tous les publics de 7 à 77 ans et plus peuvent venir avec les enfants\, les petits enfants\, accompagnés des grands enfants et\, découvrir une surprise épique. Il était une fois &#8230\; entre Spielberg et Demy. Il était une petite bande entre Michel Deville et Pierre Salvadori. Il s’agit d’un [&hellip\;]
DTSTART:20240305T174500Z
DTEND:20240305T184500Z
SUMMARY:Un film surprise en avant-première | Ciné-Club
URL;VALUE=URI:https://agenda.bastia.corsica/agenda/un-film-surprise-en-avant-premiere-cine-club/
DTSTAMP:20260424T044722Z
UID:69eaf5da99b13
END:VEVENT
END:VCALENDAR