BEGIN:VCALENDAR
VERSION:2.0
PRODID:-//hacksw/handcal//NONSGML v1.0//EN
CALSCALE:GREGORIAN
BEGIN:VEVENT
LOCATION:Mediateca Barberine Duriani
DESCRIPTION:« LA TÊTE DANS LES IMAGES » Des crayons\, des pastels\, de la peinture\,de la sérigraphie\, les illustrations pourenfants sont toutes puissantes pourpercer les nuages. Illustrateurs et illustratrices\, 16 images pour regarder le monde recto verso\, se glisser d’un univers à l’autre\, franchir les murs\, ouvrir grand les portes et fenêtres. Prendre l’air ! Avec [&hellip\;]
DTSTART:20240401T000000Z
DTEND:20240515T000000Z
SUMMARY:Mostra « La tête dans les images »
URL;VALUE=URI:https://agenda.bastia.corsica/agenda/mostra-la-tete-dans-les-images/
DTSTAMP:20260421T082116Z
UID:69e7337cec9d0
END:VEVENT
END:VCALENDAR