BEGIN:VCALENDAR
VERSION:2.0
PRODID:-//hacksw/handcal//NONSGML v1.0//EN
CALSCALE:GREGORIAN
BEGIN:VEVENT
LOCATION:Casa di e Lingue
DESCRIPTION:L&rsquo\;inseme pulifònicu feminile vene à cantà u quì è l&rsquo\;altrò in a Casa di e lingue. Un ripertoriu è accunciamenti uriginali sottu à a direzzione di Anaïs Gaggeri.
DTSTART:20240530T170000Z
DTEND:20240530T180000Z
SUMMARY:Cuncertu à l’ìntimu I Cantid’Elle
URL;VALUE=URI:https://agenda.bastia.corsica/agenda/cuncertu-a-lintimu-i-cantidelle/
DTSTAMP:20260422T223502Z
UID:69e94d16d9351
END:VEVENT
END:VCALENDAR