BEGIN:VCALENDAR
VERSION:2.0
PRODID:-//hacksw/handcal//NONSGML v1.0//EN
CALSCALE:GREGORIAN
BEGIN:VEVENT
LOCATION:Cinéma Le Studio
DESCRIPTION:L&rsquo\;association Dante Alighieri de Bastia &amp\; le Ciné-Club in Bastia présentent mardi 28 mai à 18h30 au cinéma Le Studio Il mestiere delle armi | Un film d&rsquo\;Ermanno Olmi &#8211\; 2001 &#8211\; 1h44 Prix David di Donatello de la meilleure réalisation Avec ce film très beau\, Ermanno Olmi &#8211\; réalisateur de L’arbre aux sabots\, Palme [&hellip\;]
DTSTART:20240528T173000Z
DTEND:20240528T183000Z
SUMMARY:Ciné-Club | « Il mestiere delle armi »
URL;VALUE=URI:https://agenda.bastia.corsica/agenda/cine-club-il-mestiere-delle-armi/
DTSTAMP:20260424T044840Z
UID:69eaf6283e911
END:VEVENT
END:VCALENDAR