BEGIN:VCALENDAR
VERSION:2.0
PRODID:-//hacksw/handcal//NONSGML v1.0//EN
CALSCALE:GREGORIAN
BEGIN:VEVENT
LOCATION:Parvis de l&rsquo\;Église San Roccu
DESCRIPTION:Chaque jeudi d&rsquo\;été\, rejoignez le parvis de l&rsquo\;église San Roccu et laissez vous emporter par le rythme du tango\, de la salsa\, et de biens d&rsquo\;autres danses encore ! Ce jeudi c&rsquo\;est danses latines !
DTSTART:20240704T190000Z
DTEND:20240704T200000Z
SUMMARY:Milonga di Notte #2 – Danses latines
URL;VALUE=URI:https://agenda.bastia.corsica/agenda/milonga-di-notte-2-danses-latines/
DTSTAMP:20260423T082321Z
UID:69e9d6f9d6312
END:VEVENT
END:VCALENDAR