BEGIN:VCALENDAR
VERSION:2.0
PRODID:-//hacksw/handcal//NONSGML v1.0//EN
CALSCALE:GREGORIAN
BEGIN:VEVENT
LOCATION:Centru culturale Alb&rsquo\;Oru
DESCRIPTION:Après 16 ans d’une aventure collective sans précédent dans l’histoire de La Cinémathèque française\, le public est enfin invité à venir juger sur pièce un film que nul n’a jamais vu depuis 1927. Durée : 7h (divisée en 2 époques\, l&rsquo\;une de 3h40 et l&rsquo\;autre de 3h20) A partir de 12 ans Légende connue des [&hellip\;]
DTSTART:20240906T173000Z
DTEND:20240906T183000Z
SUMMARY:NAPOLEON vu par Abel Gance (1927) | Grande version inédite et définitive
URL;VALUE=URI:https://agenda.bastia.corsica/agenda/napoleon-vu-par-abel-gance-1927-grande-version-inedite-et-definitive/
DTSTAMP:20260421T082009Z
UID:69e733396886d
END:VEVENT
END:VCALENDAR