BEGIN:VCALENDAR
VERSION:2.0
PRODID:-//hacksw/handcal//NONSGML v1.0//EN
CALSCALE:GREGORIAN
BEGIN:VEVENT
LOCATION:Mediateca Barberine Duriani
DESCRIPTION:18h Café Philo : Éthique et relation Homme-Animal Informations : inscriptions-culture@bastia.corsica
DTSTART:20250415T170000Z
DTEND:20250415T180000Z
SUMMARY:Autour du spectacle « Le retour de Moby Dick » | Café Philo
URL;VALUE=URI:https://agenda.bastia.corsica/agenda/autour-du-spectacle-le-retour-de-moby-dick-2/
DTSTAMP:20260423T034258Z
UID:69e99542e2bd8
END:VEVENT
END:VCALENDAR