BEGIN:VCALENDAR
VERSION:2.0
PRODID:-//hacksw/handcal//NONSGML v1.0//EN
CALSCALE:GREGORIAN
BEGIN:VEVENT
LOCATION:Casa di e Scenze
DESCRIPTION:Avec le Fab Lab Opra Réalise des décorations en forme de poissons\, de coquillages et crustacés pour Noël ! Tu découvriras l’histoire et les caractéristiques de plusieurs espèces qui se cachent dans les océans. Puis\, place à la création\, en leur donnant vie ! Tu confectionneras une première décoration pour toi et une deuxième pour [&hellip\;]
DTSTART:20241204T133000Z
DTEND:20241204T143000Z
SUMMARY:La fabrique sous-marine : Noël sous l’océan !
URL;VALUE=URI:https://agenda.bastia.corsica/agenda/la-fabrique-sous-marine-noel-sous-locean-2/
DTSTAMP:20260420T192615Z
UID:69e67dd7256bc
END:VEVENT
END:VCALENDAR