BEGIN:VCALENDAR
VERSION:2.0
PRODID:-//hacksw/handcal//NONSGML v1.0//EN
CALSCALE:GREGORIAN
BEGIN:VEVENT
LOCATION:Centru culturale Alb&rsquo\;Oru
DESCRIPTION:La deuxième semaine des vacances\, c’est Ciné Zitelli avec du cinéma à partir de 3 ans. Rendez-vous à 15h au Centre Culturel Alb’Oru ! En partenariat avec le cinéma Le Régent. Dans le cadre de la thématique UCEANU. Séance gratuite Ponyo sur la falaise A partir de 5ans. Alors qu&rsquo\;il joue sur la plage\, le [&hellip\;]
DTSTART:20241028T140000Z
DTEND:20241028T150000Z
SUMMARY:Ciné Zitelli | Ponyo sur la falaise
URL;VALUE=URI:https://agenda.bastia.corsica/agenda/cine-zitelli-ponyo-sur-la-falaise/
DTSTAMP:20260424T005106Z
UID:69eabe7a04cf9
END:VEVENT
END:VCALENDAR