BEGIN:VCALENDAR
VERSION:2.0
PRODID:-//hacksw/handcal//NONSGML v1.0//EN
CALSCALE:GREGORIAN
BEGIN:VEVENT
LOCATION:Centre Social François Marchetti
DESCRIPTION:De 10h à 23h Exposants\, artisans et producteurs locaux à l’honneur ! Produits du terroir et autres : huiles essentielles\, vin Corse et bières du monde\, canistrelli\, produits d’épicerie fine du monde\, charcuterie fermière\, fromages de brebis Stands de créateurs : coutelier | bijoux | objet de décoration intérieur | création jouets et divers objets [&hellip\;]
DTSTART:20241214T090000Z
DTEND:20241214T100000Z
SUMMARY:Mercatu di Natale di u Centru Suciale François Marchetti | 3e edizione
URL;VALUE=URI:https://agenda.bastia.corsica/agenda/mercatu-di-natale-di-u-centru-suciale-francois-marchetti-3a-edizione/
DTSTAMP:20260419T124532Z
UID:69e4ce6cad3bc
END:VEVENT
END:VCALENDAR