BEGIN:VCALENDAR
VERSION:2.0
PRODID:-//hacksw/handcal//NONSGML v1.0//EN
CALSCALE:GREGORIAN
BEGIN:VEVENT
LOCATION:Centru culturale Alb&rsquo\;Oru
DESCRIPTION:Nous souhaitons vous inviter à notre premier événement public qui aura lieu SAM 7 DÉCEMBRE 2024 au Centru culturale Alb’oru. Nous organisons une journée découverte de notre nouvelle association de soutien à la parentalité « A CASA DI A FAMIGLIA » avec : ℹ️ des stands informatifs dédiés aux familles (stands invités : Udaf Haute-Corse\, Association [&hellip\;]
DTSTART:20241207T080000Z
DTEND:20241207T090000Z
SUMMARY:Les journées familiales | A casa di a famiglia
URL;VALUE=URI:https://agenda.bastia.corsica/agenda/les-journees-familiales-a-casa-di-a-famiglia/
DTSTAMP:20260425T164041Z
UID:69ecee8945e10
END:VEVENT
END:VCALENDAR