BEGIN:VCALENDAR
VERSION:2.0
PRODID:-//hacksw/handcal//NONSGML v1.0//EN
CALSCALE:GREGORIAN
BEGIN:VEVENT
LOCATION:Cinéma Le Studio
DESCRIPTION:Cinémusa dont c’est la 17e édition  est un festival littéraire qui utilise l’image pour ramener un public le plus large à la lecture \; avec en sous titres « du texte à l’image » puis « de l’écrit à l’écran » \, ce festival se déroule chaque année en décembre et permet de découvrir des œuvres différentes\,  livres et films\, très récentes [&hellip\;]
DTSTART:20241216T000000Z
DTEND:20241220T000000Z
SUMMARY:Cinémusa 24
URL;VALUE=URI:https://agenda.bastia.corsica/agenda/cinemusa-24/
DTSTAMP:20260424T004420Z
UID:69eabce4642e3
END:VEVENT
END:VCALENDAR