BEGIN:VCALENDAR
VERSION:2.0
PRODID:-//hacksw/handcal//NONSGML v1.0//EN
CALSCALE:GREGORIAN
BEGIN:VEVENT
LOCATION:Mediateca Centru Cità
DESCRIPTION:Tous les mercredis | tout public Chaque séance propose une sélection de films captivants et adaptés\, visant à divertir tout en éveillant la curiosité et l’imagination des enfants. Venez découvrir des histoires fascinantes\, des personnages attachants et des aventures inoubliables dans un cadre convivial et sécurisé. Une expérience cinématographique enrichissante pour toute la famille ! [&hellip\;]
DTSTART:20250611T130000Z
DTEND:20250611T140000Z
SUMMARY:Consultation de films jeunes publics
URL;VALUE=URI:https://agenda.bastia.corsica/agenda/consultation-de-films-jeunes-publics-28/
DTSTAMP:20260423T212935Z
UID:69ea8f3fce847
END:VEVENT
END:VCALENDAR