BEGIN:VCALENDAR
VERSION:2.0
PRODID:-//hacksw/handcal//NONSGML v1.0//EN
CALSCALE:GREGORIAN
BEGIN:VEVENT
LOCATION:Cinéma Le Studio
DESCRIPTION:L’association du Ciné-Club In Bastia dédie une séance à Henri GRAZIANI (1930-2014) au cinéma Le Studio à Bastia jeudi 30 janvier 2025 à 18h30. Deux raisons de rendre un hommage au réalisateur de cinéma et au précurseur du cinéma corse. Il a été d’abord un homme de culture à commencer au théâtre. Il est passé [&hellip\;]
DTSTART:20250130T173000Z
DTEND:20250130T183000Z
SUMMARY:Ciné-Club | Soirée hommage à Henri Graziani
URL;VALUE=URI:https://agenda.bastia.corsica/agenda/cine-club-soiree-hommage-a-henri-graziani/
DTSTAMP:20260423T200847Z
UID:69ea7c4fbb209
END:VEVENT
END:VCALENDAR